BEGIN:VCALENDAR
VERSION:2.0
PRODID:-//eventon.com NONSGML v1.0//EN
CALSCALE:GREGORIAN
METHOD:PUBLISH
BEGIN:VEVENT
UID:69e9e9a3846c8
DTSTAMP:20260423T094259Z
DTSTART:20250915T110000Z
DTEND:20250916T105900Z
LOCATION:
SUMMARY:1st-day Orientations and Classes
DESCRIPTION:1st-day Orientations and Classes\nhttps://www.jetsschool.org/ne
 ws/events/1st-day-schedule-begins/
URL:https://www.jetsschool.org/news/events/1st-day-schedule-begins/
END:VEVENT
END:VCALENDAR